BEGIN:VCALENDAR
VERSION:2.0
PRODID:-//ChamberMaster//Event Calendar 2.0//EN
METHOD:PUBLISH
X-PUBLISHED-TTL:P1H
REFRESH-INTERVAL:P1H
CALSCALE:GREGORIAN
BEGIN:VTIMEZONE
TZID:America/Chicago
BEGIN:DAYLIGHT
RRULE:FREQ=YEARLY;BYMONTH=3;BYDAY=2SU
DTSTART:20070101T000000
TZOFFSETFROM:-0600
TZOFFSETTO:-0500
TZNAME:Central Daylight Time
END:DAYLIGHT
BEGIN:STANDARD
RRULE:FREQ=YEARLY;BYMONTH=11;BYDAY=1SU
DTSTART:20070101T000000
TZOFFSETFROM:-0500
TZOFFSETTO:-0600
TZNAME:Central Standard Time
END:STANDARD
END:VTIMEZONE
BEGIN:VEVENT
DTSTART;TZID=America/Chicago:20260723T080000
DTEND;TZID=America/Chicago:20260725T160000
X-MICROSOFT-CDO-ALLDAYEVENT:FALSE
SUMMARY:ACEC Deep South Convention 2026
DESCRIPTION:Join owners and key principals from premier engineering and service provider firms throughout the Deep Southern states of Alabama\, Arkansas\, Louisiana\, and Mississippi at Sandestin Golf & Beach Resort\, 9300 Emerald Coast Pkwy West\, Miramar Beach\, Florida. This year's convention and exhibitor trade show will be held on July 23-25\, 2026.\nDeep South Convention Hosting States & Contacts:ALABAMA (334) 264-1500 - Renee Casillas | rcasillas@aceca.orgARKANSAS (501) 541-5229 - Angie Cooper | awcooper@arkansasengineers.orgLOUISIANA (225) 927-7704 - Barker Dirmann | bdirmann@acecl.org or Janet Landry | jlandry@acecl.org MISSISSIPPI (601) 420-2002 - Craig Carter | craig@acecms.org \nHOTEL INFORMATION:Sandestin Golf and Beach Resort9300 Emerald Coast Pkwy West\, Miramar Beach\, FL 32550BOOK YOUR STAY
X-ALT-DESC;FMTTYPE=text/html:<!DOCTYPE html><html><head><title></title></head><body aria-disabled="false"><p>Join owners and key principals from premier engineering and service provider firms throughout the Deep Southern states of <strong fr-original-style="" style="font-weight: 700\;">Alabama\, Arkansas\, Louisiana\, and Mississippi</strong> at Sandestin Golf &amp\; Beach Resort\, 9300 Emerald Coast Pkwy West\, Miramar Beach\, Florida. This year&#39\;s convention and exhibitor trade show will be held on <strong fr-original-style="" style="font-weight: 700\;">July 23-25\, 2026.</strong></p><p><br></p><p><strong fr-original-style="" style="font-weight: 700\;">Deep South Convention Hosting States &amp\; Contacts:</strong></p><p><span style="font-size: 14px\;">ALABAMA (334) 264-1500 - Renee Casillas | <span style="color: rgb(44\, 130\, 201)\;"><a fr-original-style="" href="mailto:rcasillas@aceca.org" style="user-select: auto\; color: inherit\;">rcasillas@aceca.org</a></span></span></p><p><span style="font-size: 14px\;">ARKANSAS (501) 541-5229 - Angie Cooper |<span style="color: rgb(44\, 130\, 201)\;">&nbsp\;<a fr-original-style="" href="mailto:awcooper@arkansasengineers.org" style="user-select: auto\; color: inherit\;">awcooper@arkansasengineers.org</a></span></span></p><p><span style="font-size: 14px\;">LOUISIANA (225) 927-7704 - Barker Dirmann | <span style="color: rgb(44\, 130\, 201)\;"><a fr-original-style="" href="mailto:bdirmann@acecl.org" style="user-select: auto\; color: inherit\;">bdirmann@acecl.org</a></span> or Janet Landry | <span style="color: rgb(44\, 130\, 201)\;"><a fr-original-style="" href="mailto:jlandry@acecl.org" style="user-select: auto\; color: inherit\;">jlandry@acecl.org</a>&nbsp\;</span></span></p><p><span style="font-size: 14px\;">MISSISSIPPI (601) 420-2002 - Craig Carter |<span style="color: rgb(44\, 130\, 201)\;">&nbsp\;<a fr-original-style="" href="mailto:craig@acecms.org" style="user-select: auto\; color: inherit\;">craig@acecms.org</a>&nbsp\;</span></span></p><p><br></p><p><strong fr-original-style="" style="font-weight: 700\;">HOTEL INFORMATION:</strong></p><p>Sandestin Golf and Beach Resort</p><p>9300 Emerald Coast Pkwy West\, Miramar Beach\, FL 32550</p><p><a fr-original-style="" href="https://www.sandestin.com/book-now?group=%2024V68Y&checkin=07/22/26&checkout=07/26/26&rooms=1&adults=1&PID=39297#/room" style="user-select: auto\;">BOOK YOUR STAY</a></p><p><br></p><p><br></p></body></html>
LOCATION:9300 Emerald Coast Pkwy W. Miramar Beach FL 32550
UID:e.3281.1434352
SEQUENCE:3
DTSTAMP:20260421T093037Z
URL:https://members.acecl.org/acecl-calendar/Details/acec-deep-south-convention-2026-1697901?sourceTypeId=Hub
END:VEVENT
END:VCALENDAR
